BEGIN:VCALENDAR
VERSION:2.0
PRODID:-//International Canine Semen Bank (ICSB) - ECPv6.15.20//NONSGML v1.0//EN
CALSCALE:GREGORIAN
METHOD:PUBLISH
X-ORIGINAL-URL:https://icsb.com
X-WR-CALDESC:Events for International Canine Semen Bank (ICSB)
REFRESH-INTERVAL;VALUE=DURATION:PT1H
X-Robots-Tag:noindex
X-PUBLISHED-TTL:PT1H
BEGIN:VTIMEZONE
TZID:America/Los_Angeles
BEGIN:DAYLIGHT
TZOFFSETFROM:-0800
TZOFFSETTO:-0700
TZNAME:PDT
DTSTART:20260308T100000
END:DAYLIGHT
BEGIN:STANDARD
TZOFFSETFROM:-0700
TZOFFSETTO:-0800
TZNAME:PST
DTSTART:20261101T090000
END:STANDARD
BEGIN:DAYLIGHT
TZOFFSETFROM:-0800
TZOFFSETTO:-0700
TZNAME:PDT
DTSTART:20270314T100000
END:DAYLIGHT
BEGIN:STANDARD
TZOFFSETFROM:-0700
TZOFFSETTO:-0800
TZNAME:PST
DTSTART:20271107T090000
END:STANDARD
BEGIN:DAYLIGHT
TZOFFSETFROM:-0800
TZOFFSETTO:-0700
TZNAME:PDT
DTSTART:20280312T100000
END:DAYLIGHT
BEGIN:STANDARD
TZOFFSETFROM:-0700
TZOFFSETTO:-0800
TZNAME:PST
DTSTART:20281105T090000
END:STANDARD
END:VTIMEZONE
BEGIN:VEVENT
DTSTART;TZID=America/Los_Angeles:20270227T000000
DTEND;TZID=America/Los_Angeles:20270228T235959
DTSTAMP:20260422T160104
CREATED:20260414T213512Z
LAST-MODIFIED:20260414T213516Z
UID:10000164-1803686400-1803859199@icsb.com
SUMMARY:Linn County Kennel Club
DESCRIPTION:Albany\, OR \n\n\n\n\n	\n		\n\n						\n		\n\n			\n	\n	\n		\n\n	\n		\n						\n							\n			\n						\n			\n	\n		\n\n						\n		\n\n			\n	\n	\n		\n	\n		\n\n                \n                        \n                             \n                         \n \n                        Client First & Last NameBreed Of DogStud’s Registered Name(s) or Call Name (not registered)Upload Forms & Documents\n										\n											Drop files here or \n											Select files\n										\n									Max. file size: 1 GB. Appointment TypeCanine semen freezeCanine semen evaluationAll freeze appointments are evaluated. Please only select evaluation if you do not want a freeze attempt at all.Phone NumberEmail Address\n                            \n                        Number of Studs to be Collected123456Days You Want Your Stud Collected\n								\n								Saturday\n							\n								\n								Sunday\n							ICSB is only able to attend events on Saturdays and Sundays.Notes or QuestionsCAPTCHA\n          \n            \n            \n            \n            \n            \n            \n            \n            \n            \n            \n            \n            \n            \n        \n                        \n                        \n		                \n		                \n	\n\n	\n\n\n\n	\n		\n	\n\n			\n\n		\n	\n\n		\n\n\n\n	\n\n			\n							Appointment Request
URL:https://icsb.com/all-events/linn-county-kennel-club-6/
LOCATION:Linn County Expo Center\, 3700 Knox Butte Rd E\, Albany\, OR\, 97322\, United States
END:VEVENT
BEGIN:VEVENT
DTSTART;TZID=America/Los_Angeles:20270313T000000
DTEND;TZID=America/Los_Angeles:20270314T235959
DTSTAMP:20260422T160104
CREATED:20260414T213928Z
LAST-MODIFIED:20260414T213931Z
UID:10000165-1804896000-1805068799@icsb.com
SUMMARY:Silver Falls Kennel Club
DESCRIPTION:Oregon State Fairgrounds \nSalem\, OR \n\n	\n		\n\n						\n		\n\n			\n	\n	\n		\n\n	\n		\n						\n							\n			\n						\n			\n	\n		\n\n						\n		\n\n			\n	\n	\n		\n	\n		\n                \n                        \n                             \n                         \n \n                        Client First & Last NameBreed Of DogStud’s Registered Name(s) or Call Name (not registered)Upload Forms & Documents\n										\n											Drop files here or \n											Select files\n										\n									Max. file size: 1 GB. Appointment TypeCanine semen freezeCanine semen evaluationAll freeze appointments are evaluated. Please only select evaluation if you do not want a freeze attempt at all.Phone NumberEmail Address\n                            \n                        Number of Studs to be Collected123456Days You Want Your Stud Collected\n								\n								Saturday\n							\n								\n								Sunday\n							ICSB is only able to attend events on Saturdays and Sundays.Notes or QuestionsCAPTCHA\n          \n            \n            \n            \n            \n            \n            \n            \n            \n            \n            \n            \n            \n            \n        \n                        \n                        \n		                \n		                \n	\n\n	\n\n\n\n	\n		\n	\n\n			\n\n		\n	\n\n		\n\n\n\n	\n\n			\n							Appointment Request
URL:https://icsb.com/all-events/silver-falls-kennel-club-5/
LOCATION:Oregon State Fairgrounds\, 2330 17th St NE\, Salem\, OR\, 97301\, United States
END:VEVENT
BEGIN:VEVENT
DTSTART;TZID=America/Los_Angeles:20270327T000000
DTEND;TZID=America/Los_Angeles:20270328T235959
DTSTAMP:20260422T160104
CREATED:20260414T214720Z
LAST-MODIFIED:20260414T214722Z
UID:10000166-1806105600-1806278399@icsb.com
SUMMARY:Peninsula Dog Fanciers Club
DESCRIPTION:Kitsap County Fairgrounds \nBremerton\, WA \n\n	\n		\n\n						\n		\n\n			\n	\n	\n		\n\n	\n		\n						\n							\n			\n						\n			\n	\n		\n\n						\n		\n\n			\n	\n	\n		\n	\n		\n                \n                        \n                             \n                         \n \n                        Client First & Last NameBreed Of DogStud’s Registered Name(s) or Call Name (not registered)Upload Forms & Documents\n										\n											Drop files here or \n											Select files\n										\n									Max. file size: 1 GB. Appointment TypeCanine semen freezeCanine semen evaluationAll freeze appointments are evaluated. Please only select evaluation if you do not want a freeze attempt at all.Phone NumberEmail Address\n                            \n                        Number of Studs to be Collected123456Days You Want Your Stud Collected\n								\n								Saturday\n							\n								\n								Sunday\n							ICSB is only able to attend events on Saturdays and Sundays.Notes or QuestionsCAPTCHA\n          \n            \n            \n            \n            \n            \n            \n            \n            \n            \n            \n            \n            \n            \n        \n                        \n                        \n		                \n		                \n	\n\n	\n\n\n\n	\n		\n	\n\n			\n\n		\n	\n\n		\n\n\n\n	\n\n			\n							Appointment Request
URL:https://icsb.com/all-events/peninsula-dog-fanciers-club-5/
LOCATION:Kitsap County Faigrounds\, 1200 Fairgrounds Rd NW\, Bremerton\, WA\, 98311\, United States
END:VEVENT
BEGIN:VEVENT
DTSTART;TZID=America/Los_Angeles:20270410T000000
DTEND;TZID=America/Los_Angeles:20270411T235959
DTSTAMP:20260422T160104
CREATED:20260414T215136Z
LAST-MODIFIED:20260414T215140Z
UID:10000167-1807315200-1807487999@icsb.com
SUMMARY:Chintimini Kennel Club
DESCRIPTION:Albany\, OR \n\n	\n		\n\n						\n		\n\n			\n	\n	\n		\n\n	\n		\n						\n							\n			\n						\n			\n	\n		\n\n						\n		\n\n			\n	\n	\n		\n	\n		\n                \n                        \n                             \n                         \n \n                        Client First & Last NameBreed Of DogStud’s Registered Name(s) or Call Name (not registered)Upload Forms & Documents\n										\n											Drop files here or \n											Select files\n										\n									Max. file size: 1 GB. Appointment TypeCanine semen freezeCanine semen evaluationAll freeze appointments are evaluated. Please only select evaluation if you do not want a freeze attempt at all.Phone NumberEmail Address\n                            \n                        Number of Studs to be Collected123456Days You Want Your Stud Collected\n								\n								Saturday\n							\n								\n								Sunday\n							ICSB is only able to attend events on Saturdays and Sundays.Notes or QuestionsCAPTCHA\n          \n            \n            \n            \n            \n            \n            \n            \n            \n            \n            \n            \n            \n            \n        \n                        \n                        \n		                \n		                \n	\n\n	\n\n\n\n	\n		\n	\n\n			\n\n		\n	\n\n		\n\n\n\n	\n\n			\n							Appointment Request
URL:https://icsb.com/all-events/chintimini-kennel-club-5/
LOCATION:Linn County Expo Center\, 3700 Knox Butte Rd E\, Albany\, OR\, 97322\, United States
END:VEVENT
END:VCALENDAR