BEGIN:VCALENDAR
VERSION:2.0
PRODID:-//International Canine Semen Bank (ICSB) - ECPv6.15.20//NONSGML v1.0//EN
CALSCALE:GREGORIAN
METHOD:PUBLISH
X-WR-CALNAME:International Canine Semen Bank (ICSB)
X-ORIGINAL-URL:https://icsb.com
X-WR-CALDESC:Events for International Canine Semen Bank (ICSB)
REFRESH-INTERVAL;VALUE=DURATION:PT1H
X-Robots-Tag:noindex
X-PUBLISHED-TTL:PT1H
BEGIN:VTIMEZONE
TZID:UTC
BEGIN:STANDARD
TZOFFSETFROM:+0000
TZOFFSETTO:+0000
TZNAME:UTC
DTSTART:20210101T000000
END:STANDARD
END:VTIMEZONE
BEGIN:VEVENT
DTSTART;TZID=UTC:20220528T080000
DTEND;TZID=UTC:20220529T170000
DTSTAMP:20260423T023409
CREATED:20211229T124911Z
LAST-MODIFIED:20211229T124911Z
UID:10000070-1653724800-1653843600@icsb.com
SUMMARY:Spokane Kennel Club
DESCRIPTION:Spokane County Fair & Expo Center \n\n	\n		\n\n						\n		\n\n			\n	\n	\n		\n\n	\n		\n						\n							\n			\n						\n			\n	\n		\n\n						\n		\n\n			\n	\n	\n		\n	\n		\n\n                \n                        \n                             \n                         \n \n                        Client First & Last NameBreed Of DogStud’s Registered Name(s) or Call Name (not registered)Upload Forms & Documents\n										\n											Drop files here or \n											Select files\n										\n									Max. file size: 1 GB. Appointment TypeCanine semen freezeCanine semen evaluationAll freeze appointments are evaluated. Please only select evaluation if you do not want a freeze attempt at all.Phone NumberEmail Address\n                            \n                        Number of Studs to be Collected123456Days You Want Your Stud Collected\n								\n								Saturday\n							\n								\n								Sunday\n							ICSB is only able to attend events on Saturdays and Sundays.Notes or QuestionsCAPTCHA\n          \n            \n            \n            \n            \n            \n            \n            \n            \n            \n            \n            \n            \n            \n        \n                        \n                        \n		                \n		                \n	\n\n	\n\n\n\n	\n		\n	\n\n			\n\n		\n	\n\n		\n\n\n\n	\n\n			\n							Appointment Request
URL:https://icsb.com/all-events/spokane-kennel-club/
LOCATION:WA
END:VEVENT
BEGIN:VEVENT
DTSTART;TZID=UTC:20220521T080000
DTEND;TZID=UTC:20220522T170000
DTSTAMP:20260423T023409
CREATED:20211229T124736Z
LAST-MODIFIED:20211229T124736Z
UID:10000069-1653120000-1653238800@icsb.com
SUMMARY:Bell Vernon and Mt Baker Kennel Clubs
DESCRIPTION:Northwest Washington Fairgrounds \n\n	\n		\n\n						\n		\n\n			\n	\n	\n		\n\n	\n		\n						\n							\n			\n						\n			\n	\n		\n\n						\n		\n\n			\n	\n	\n		\n	\n		\n                \n                        \n                             \n                         \n \n                        Client First & Last NameBreed Of DogStud’s Registered Name(s) or Call Name (not registered)Upload Forms & Documents\n										\n											Drop files here or \n											Select files\n										\n									Max. file size: 1 GB. Appointment TypeCanine semen freezeCanine semen evaluationAll freeze appointments are evaluated. Please only select evaluation if you do not want a freeze attempt at all.Phone NumberEmail Address\n                            \n                        Number of Studs to be Collected123456Days You Want Your Stud Collected\n								\n								Saturday\n							\n								\n								Sunday\n							ICSB is only able to attend events on Saturdays and Sundays.Notes or QuestionsCAPTCHA\n          \n            \n            \n            \n            \n            \n            \n            \n            \n            \n            \n            \n            \n            \n        \n                        \n                        \n		                \n		                \n	\n\n	\n\n\n\n	\n		\n	\n\n			\n\n		\n	\n\n		\n\n\n\n	\n\n			\n							Appointment Request
URL:https://icsb.com/all-events/bell-vernon-and-mt-baker-kennel-clubs/
LOCATION:WA
END:VEVENT
BEGIN:VEVENT
DTSTART;TZID=UTC:20220514T080000
DTEND;TZID=UTC:20220515T170000
DTSTAMP:20260423T023409
CREATED:20211229T124619Z
LAST-MODIFIED:20211229T124619Z
UID:10000068-1652515200-1652634000@icsb.com
SUMMARY:Klamath Dog Fanicers
DESCRIPTION:Klamath County Fairgrounds \n\n	\n		\n\n						\n		\n\n			\n	\n	\n		\n\n	\n		\n						\n							\n			\n						\n			\n	\n		\n\n						\n		\n\n			\n	\n	\n		\n	\n		\n                \n                        \n                             \n                         \n \n                        Client First & Last NameBreed Of DogStud’s Registered Name(s) or Call Name (not registered)Upload Forms & Documents\n										\n											Drop files here or \n											Select files\n										\n									Max. file size: 1 GB. Appointment TypeCanine semen freezeCanine semen evaluationAll freeze appointments are evaluated. Please only select evaluation if you do not want a freeze attempt at all.Phone NumberEmail Address\n                            \n                        Number of Studs to be Collected123456Days You Want Your Stud Collected\n								\n								Saturday\n							\n								\n								Sunday\n							ICSB is only able to attend events on Saturdays and Sundays.Notes or QuestionsCAPTCHA\n          \n            \n            \n            \n            \n            \n            \n            \n            \n            \n            \n            \n            \n            \n        \n                        \n                        \n		                \n		                \n	\n\n	\n\n\n\n	\n		\n	\n\n			\n\n		\n	\n\n		\n\n\n\n	\n\n			\n							Appointment Request
URL:https://icsb.com/all-events/klamath-dog-fanicers/
LOCATION:WA
END:VEVENT
BEGIN:VEVENT
DTSTART;TZID=UTC:20220507T080000
DTEND;TZID=UTC:20220508T170000
DTSTAMP:20260423T023409
CREATED:20211229T124452Z
LAST-MODIFIED:20211229T124452Z
UID:10000067-1651910400-1652029200@icsb.com
SUMMARY:Nisqually Kennel Club
DESCRIPTION:Grays Harbor County Fairgrounds \n\n	\n		\n\n						\n		\n\n			\n	\n	\n		\n\n	\n		\n						\n							\n			\n						\n			\n	\n		\n\n						\n		\n\n			\n	\n	\n		\n	\n		\n                \n                        \n                             \n                         \n \n                        Client First & Last NameBreed Of DogStud’s Registered Name(s) or Call Name (not registered)Upload Forms & Documents\n										\n											Drop files here or \n											Select files\n										\n									Max. file size: 1 GB. Appointment TypeCanine semen freezeCanine semen evaluationAll freeze appointments are evaluated. Please only select evaluation if you do not want a freeze attempt at all.Phone NumberEmail Address\n                            \n                        Number of Studs to be Collected123456Days You Want Your Stud Collected\n								\n								Saturday\n							\n								\n								Sunday\n							ICSB is only able to attend events on Saturdays and Sundays.Notes or QuestionsCAPTCHA\n          \n            \n            \n            \n            \n            \n            \n            \n            \n            \n            \n            \n            \n            \n        \n                        \n                        \n		                \n		                \n	\n\n	\n\n\n\n	\n		\n	\n\n			\n\n		\n	\n\n		\n\n\n\n	\n\n			\n							Appointment Request
URL:https://icsb.com/all-events/nisqually-kennel-club/
LOCATION:WA
END:VEVENT
BEGIN:VEVENT
DTSTART;TZID=UTC:20220423T080000
DTEND;TZID=UTC:20220424T170000
DTSTAMP:20260423T023409
CREATED:20211229T124320Z
LAST-MODIFIED:20211229T124320Z
UID:10000066-1650700800-1650819600@icsb.com
SUMMARY:Tacoma Kennel Club
DESCRIPTION:Tacoma Dome\n\n	\n		\n\n						\n		\n\n			\n	\n	\n		\n\n	\n		\n						\n							\n			\n						\n			\n	\n		\n\n						\n		\n\n			\n	\n	\n		\n	\n		\n                \n                        \n                             \n                         \n \n                        Client First & Last NameBreed Of DogStud’s Registered Name(s) or Call Name (not registered)Upload Forms & Documents\n										\n											Drop files here or \n											Select files\n										\n									Max. file size: 1 GB. Appointment TypeCanine semen freezeCanine semen evaluationAll freeze appointments are evaluated. Please only select evaluation if you do not want a freeze attempt at all.Phone NumberEmail Address\n                            \n                        Number of Studs to be Collected123456Days You Want Your Stud Collected\n								\n								Saturday\n							\n								\n								Sunday\n							ICSB is only able to attend events on Saturdays and Sundays.Notes or QuestionsCAPTCHA\n          \n            \n            \n            \n            \n            \n            \n            \n            \n            \n            \n            \n            \n            \n        \n                        \n                        \n		                \n		                \n	\n\n	\n\n\n\n	\n		\n	\n\n			\n\n		\n	\n\n		\n\n\n\n	\n\n			\n							Appointment Request
URL:https://icsb.com/all-events/tacoma-kennel-club/
LOCATION:WA
END:VEVENT
BEGIN:VEVENT
DTSTART;TZID=UTC:20220409T080000
DTEND;TZID=UTC:20220410T170000
DTSTAMP:20260423T023409
CREATED:20211230T110536Z
LAST-MODIFIED:20211230T110915Z
UID:10000074-1649491200-1649610000@icsb.com
SUMMARY:Albany Dog Show
DESCRIPTION:Client First & Last NameBreed Of DogStud’s Registered Name(s) or Call Name (not registered)Upload Forms & Documents\n										\n											Drop files here or \n											Select files\n										\n									Max. file size: 1 GB. Appointment TypeCanine semen freezeCanine semen evaluationAll freeze appointments are evaluated. Please only select evaluation if you do not want a freeze attempt at all.Phone NumberEmail Address\n                            \n                        Number of Studs to be Collected123456Days You Want Your Stud Collected\n								\n								Saturday\n							\n								\n								Sunday\n							ICSB is only able to attend events on Saturdays and Sundays.Notes or QuestionsCAPTCHA\n          \n            \n            \n            \n            \n            \n            \n            \n            \n            \n            \n            \n            \n            \n        \n                        \n                        \n		                \n		                \n	\n\n	\n\n\n\n	\n		\n	\n\n			\n\n		\n	\n\n		\n\n\n\n	\n\n			\n							Appointment Request
URL:https://icsb.com/all-events/albany-dog-show/
LOCATION:WA
END:VEVENT
BEGIN:VEVENT
DTSTART;TZID=UTC:20220326T080000
DTEND;TZID=UTC:20220327T170000
DTSTAMP:20260423T023409
CREATED:20211229T122112Z
LAST-MODIFIED:20211229T122112Z
UID:10000065-1648281600-1648400400@icsb.com
SUMMARY:Peninsula Dog Fanciers
DESCRIPTION:Kitsap County Fairgrounds \n\n	\n		\n\n						\n		\n\n			\n	\n	\n		\n\n	\n		\n						\n							\n			\n						\n			\n	\n		\n\n						\n		\n\n			\n	\n	\n		\n	\n		\n                \n                        \n                             \n                         \n \n                        Client First & Last NameBreed Of DogStud’s Registered Name(s) or Call Name (not registered)Upload Forms & Documents\n										\n											Drop files here or \n											Select files\n										\n									Max. file size: 1 GB. Appointment TypeCanine semen freezeCanine semen evaluationAll freeze appointments are evaluated. Please only select evaluation if you do not want a freeze attempt at all.Phone NumberEmail Address\n                            \n                        Number of Studs to be Collected123456Days You Want Your Stud Collected\n								\n								Saturday\n							\n								\n								Sunday\n							ICSB is only able to attend events on Saturdays and Sundays.Notes or QuestionsCAPTCHA\n          \n            \n            \n            \n            \n            \n            \n            \n            \n            \n            \n            \n            \n            \n        \n                        \n                        \n		                \n		                \n	\n\n	\n\n\n\n	\n		\n	\n\n			\n\n		\n	\n\n		\n\n\n\n	\n\n			\n							Appointment Request
URL:https://icsb.com/all-events/peninsula-dog-fanciers/
LOCATION:WA
END:VEVENT
BEGIN:VEVENT
DTSTART;TZID=UTC:20220226T080000
DTEND;TZID=UTC:20220227T170000
DTSTAMP:20260423T023409
CREATED:20211229T121958Z
LAST-MODIFIED:20211229T121958Z
UID:10000064-1645862400-1645981200@icsb.com
SUMMARY:Linn County Kennel Club
DESCRIPTION:Linn County Fair & Expo Center \n\n	\n		\n\n						\n		\n\n			\n	\n	\n		\n\n	\n		\n						\n							\n			\n						\n			\n	\n		\n\n						\n		\n\n			\n	\n	\n		\n	\n		\n                \n                        \n                             \n                         \n \n                        Client First & Last NameBreed Of DogStud’s Registered Name(s) or Call Name (not registered)Upload Forms & Documents\n										\n											Drop files here or \n											Select files\n										\n									Max. file size: 1 GB. Appointment TypeCanine semen freezeCanine semen evaluationAll freeze appointments are evaluated. Please only select evaluation if you do not want a freeze attempt at all.Phone NumberEmail Address\n                            \n                        Number of Studs to be Collected123456Days You Want Your Stud Collected\n								\n								Saturday\n							\n								\n								Sunday\n							ICSB is only able to attend events on Saturdays and Sundays.Notes or QuestionsCAPTCHA\n          \n            \n            \n            \n            \n            \n            \n            \n            \n            \n            \n            \n            \n            \n        \n                        \n                        \n		                \n		                \n	\n\n	\n\n\n\n	\n		\n	\n\n			\n\n		\n	\n\n		\n\n\n\n	\n\n			\n							Appointment Request
URL:https://icsb.com/all-events/linn-county-kennel-club/
LOCATION:WA
END:VEVENT
BEGIN:VEVENT
DTSTART;TZID=UTC:20220121T080000
DTEND;TZID=UTC:20220123T170000
DTSTAMP:20260423T023409
CREATED:20211229T121155Z
LAST-MODIFIED:20211229T121155Z
UID:10000063-1642752000-1642957200@icsb.com
SUMMARY:Rose City Classic
DESCRIPTION:Portland Expo Center \n\n	\n		\n\n						\n		\n\n			\n	\n	\n		\n\n	\n		\n						\n							\n			\n						\n			\n	\n		\n\n						\n		\n\n			\n	\n	\n		\n	\n		\n                \n                        \n                             \n                         \n \n                        Client First & Last NameBreed Of DogStud’s Registered Name(s) or Call Name (not registered)Upload Forms & Documents\n										\n											Drop files here or \n											Select files\n										\n									Max. file size: 1 GB. Appointment TypeCanine semen freezeCanine semen evaluationAll freeze appointments are evaluated. Please only select evaluation if you do not want a freeze attempt at all.Phone NumberEmail Address\n                            \n                        Number of Studs to be Collected123456Days You Want Your Stud Collected\n								\n								Saturday\n							\n								\n								Sunday\n							ICSB is only able to attend events on Saturdays and Sundays.Notes or QuestionsCAPTCHA\n          \n            \n            \n            \n            \n            \n            \n            \n            \n            \n            \n            \n            \n            \n        \n                        \n                        \n		                \n		                \n	\n\n	\n\n\n\n	\n		\n	\n\n			\n\n		\n	\n\n		\n\n\n\n	\n\n			\n							Appointment Request
URL:https://icsb.com/all-events/rose-city-classic/
LOCATION:WA
END:VEVENT
BEGIN:VEVENT
DTSTART;TZID=UTC:20220115T080000
DTEND;TZID=UTC:20220116T170000
DTSTAMP:20260423T023409
CREATED:20211228T185320Z
LAST-MODIFIED:20211228T190319Z
UID:10000062-1642233600-1642352400@icsb.com
SUMMARY:Western Washington Cluster
DESCRIPTION:Washington State Fair Events Center \n\n	\n		\n\n						\n		\n\n			\n	\n	\n		\n\n	\n		\n						\n							\n			\n						\n			\n	\n		\n\n						\n		\n\n			\n	\n	\n		\n	\n		\n                \n                        \n                             \n                         \n \n                        Client First & Last NameBreed Of DogStud’s Registered Name(s) or Call Name (not registered)Upload Forms & Documents\n										\n											Drop files here or \n											Select files\n										\n									Max. file size: 1 GB. Appointment TypeCanine semen freezeCanine semen evaluationAll freeze appointments are evaluated. Please only select evaluation if you do not want a freeze attempt at all.Phone NumberEmail Address\n                            \n                        Number of Studs to be Collected123456Days You Want Your Stud Collected\n								\n								Saturday\n							\n								\n								Sunday\n							ICSB is only able to attend events on Saturdays and Sundays.Notes or QuestionsCAPTCHA\n          \n            \n            \n            \n            \n            \n            \n            \n            \n            \n            \n            \n            \n            \n        \n                        \n                        \n		                \n		                \n	\n\n	\n\n\n\n	\n		\n	\n\n			\n\n		\n	\n\n		\n\n\n\n	\n\n			\n							Appointment Request
URL:https://icsb.com/all-events/western-washington-cluster/
LOCATION:WA
END:VEVENT
END:VCALENDAR