BEGIN:VCALENDAR
VERSION:2.0
PRODID:-//International Canine Semen Bank (ICSB) - ECPv6.15.20//NONSGML v1.0//EN
CALSCALE:GREGORIAN
METHOD:PUBLISH
X-WR-CALNAME:International Canine Semen Bank (ICSB)
X-ORIGINAL-URL:https://icsb.com
X-WR-CALDESC:Events for International Canine Semen Bank (ICSB)
REFRESH-INTERVAL;VALUE=DURATION:PT1H
X-Robots-Tag:noindex
X-PUBLISHED-TTL:PT1H
BEGIN:VTIMEZONE
TZID:America/Los_Angeles
BEGIN:DAYLIGHT
TZOFFSETFROM:-0800
TZOFFSETTO:-0700
TZNAME:PDT
DTSTART:20250309T100000
END:DAYLIGHT
BEGIN:STANDARD
TZOFFSETFROM:-0700
TZOFFSETTO:-0800
TZNAME:PST
DTSTART:20251102T090000
END:STANDARD
BEGIN:DAYLIGHT
TZOFFSETFROM:-0800
TZOFFSETTO:-0700
TZNAME:PDT
DTSTART:20260308T100000
END:DAYLIGHT
BEGIN:STANDARD
TZOFFSETFROM:-0700
TZOFFSETTO:-0800
TZNAME:PST
DTSTART:20261101T090000
END:STANDARD
BEGIN:DAYLIGHT
TZOFFSETFROM:-0800
TZOFFSETTO:-0700
TZNAME:PDT
DTSTART:20270314T100000
END:DAYLIGHT
BEGIN:STANDARD
TZOFFSETFROM:-0700
TZOFFSETTO:-0800
TZNAME:PST
DTSTART:20271107T090000
END:STANDARD
END:VTIMEZONE
BEGIN:VEVENT
DTSTART;TZID=America/Los_Angeles:20260307T000000
DTEND;TZID=America/Los_Angeles:20260308T235959
DTSTAMP:20260422T083235
CREATED:20250617T171042Z
LAST-MODIFIED:20250617T171046Z
UID:10000146-1772841600-1773014399@icsb.com
SUMMARY:Silver Falls Kennel Club
DESCRIPTION:Oregon State Fairgrounds \nSalem\, OR \n\n	\n		\n\n						\n		\n\n			\n	\n	\n		\n\n	\n		\n						\n							\n			\n						\n			\n	\n		\n\n						\n		\n\n			\n	\n	\n		\n	\n		\n\n                \n                        \n                             \n                         \n \n                        Client First & Last NameBreed Of DogStud’s Registered Name(s) or Call Name (not registered)Upload Forms & Documents\n										\n											Drop files here or \n											Select files\n										\n									Max. file size: 1 GB. Appointment TypeCanine semen freezeCanine semen evaluationAll freeze appointments are evaluated. Please only select evaluation if you do not want a freeze attempt at all.Phone NumberEmail Address\n                            \n                        Number of Studs to be Collected123456Days You Want Your Stud Collected\n								\n								Saturday\n							\n								\n								Sunday\n							ICSB is only able to attend events on Saturdays and Sundays.Notes or QuestionsCAPTCHA\n          \n            \n            \n            \n            \n            \n            \n            \n            \n            \n            \n            \n            \n            \n        \n                        \n                        \n		                \n		                \n	\n\n	\n\n\n\n	\n		\n	\n\n			\n\n		\n	\n\n		\n\n\n\n	\n\n			\n							Appointment Request
URL:https://icsb.com/all-events/silver-falls-kennel-club-4/
LOCATION:Oregon State Fairgrounds\, 2330 17th St NE\, Salem\, OR\, 97301\, United States
END:VEVENT
BEGIN:VEVENT
DTSTART;TZID=America/Los_Angeles:20260321T000000
DTEND;TZID=America/Los_Angeles:20260322T235959
DTSTAMP:20260422T083236
CREATED:20250416T183219Z
LAST-MODIFIED:20250416T183226Z
UID:10000145-1774051200-1774223999@icsb.com
SUMMARY:Peninsula Dog Fanciers Club
DESCRIPTION:Kitsap County Fairgrounds \nBremerton\, WA \n\n	\n		\n\n						\n		\n\n			\n	\n	\n		\n\n	\n		\n						\n							\n			\n						\n			\n	\n		\n\n						\n		\n\n			\n	\n	\n		\n	\n		\n                \n                        \n                             \n                         \n \n                        Client First & Last NameBreed Of DogStud’s Registered Name(s) or Call Name (not registered)Upload Forms & Documents\n										\n											Drop files here or \n											Select files\n										\n									Max. file size: 1 GB. Appointment TypeCanine semen freezeCanine semen evaluationAll freeze appointments are evaluated. Please only select evaluation if you do not want a freeze attempt at all.Phone NumberEmail Address\n                            \n                        Number of Studs to be Collected123456Days You Want Your Stud Collected\n								\n								Saturday\n							\n								\n								Sunday\n							ICSB is only able to attend events on Saturdays and Sundays.Notes or QuestionsCAPTCHA\n          \n            \n            \n            \n            \n            \n            \n            \n            \n            \n            \n            \n            \n            \n        \n                        \n                        \n		                \n		                \n	\n\n	\n\n\n\n	\n		\n	\n\n			\n\n		\n	\n\n		\n\n\n\n	\n\n			\n							Appointment Request
URL:https://icsb.com/all-events/peninsula-dog-fanciers-club-4/
LOCATION:Kitsap County Faigrounds\, 1200 Fairgrounds Rd NW\, Bremerton\, WA\, 98311\, United States
END:VEVENT
END:VCALENDAR