BEGIN:VCALENDAR
VERSION:2.0
PRODID:-//International Canine Semen Bank (ICSB) - ECPv6.15.20//NONSGML v1.0//EN
CALSCALE:GREGORIAN
METHOD:PUBLISH
X-ORIGINAL-URL:https://icsb.com
X-WR-CALDESC:Events for International Canine Semen Bank (ICSB)
REFRESH-INTERVAL;VALUE=DURATION:PT1H
X-Robots-Tag:noindex
X-PUBLISHED-TTL:PT1H
BEGIN:VTIMEZONE
TZID:America/Los_Angeles
BEGIN:DAYLIGHT
TZOFFSETFROM:-0800
TZOFFSETTO:-0700
TZNAME:PDT
DTSTART:20210314T100000
END:DAYLIGHT
BEGIN:STANDARD
TZOFFSETFROM:-0700
TZOFFSETTO:-0800
TZNAME:PST
DTSTART:20211107T090000
END:STANDARD
BEGIN:DAYLIGHT
TZOFFSETFROM:-0800
TZOFFSETTO:-0700
TZNAME:PDT
DTSTART:20220313T100000
END:DAYLIGHT
BEGIN:STANDARD
TZOFFSETFROM:-0700
TZOFFSETTO:-0800
TZNAME:PST
DTSTART:20221106T090000
END:STANDARD
BEGIN:DAYLIGHT
TZOFFSETFROM:-0800
TZOFFSETTO:-0700
TZNAME:PDT
DTSTART:20230312T100000
END:DAYLIGHT
BEGIN:STANDARD
TZOFFSETFROM:-0700
TZOFFSETTO:-0800
TZNAME:PST
DTSTART:20231105T090000
END:STANDARD
END:VTIMEZONE
BEGIN:VEVENT
DTSTART;VALUE=DATE:20221022
DTEND;VALUE=DATE:20221023
DTSTAMP:20260422T205617
CREATED:20220804T212709Z
LAST-MODIFIED:20220804T213401Z
UID:10000080-1666396800-1666483199@icsb.com
SUMMARY:Breeder Day
DESCRIPTION:Saturday 9am-4pm \nOlympia\, WA \nBreeder Day Flyer \n\n	\n		\n\n						\n		\n\n			\n	\n	\n		\n\n	\n		\n						\n							\n			\n						\n			\n	\n		\n\n						\n		\n\n			\n	\n	\n		\n	\n		\n\n                \n                        \n                             \n                         \n \n                        Client First & Last NameBreed Of DogStud’s Registered Name(s) or Call Name (not registered)Upload Forms & Documents\n										\n											Drop files here or \n											Select files\n										\n									Max. file size: 1 GB. Appointment TypeCanine semen freezeCanine semen evaluationAll freeze appointments are evaluated. Please only select evaluation if you do not want a freeze attempt at all.Phone NumberEmail Address\n                            \n                        Number of Studs to be Collected123456Days You Want Your Stud Collected\n								\n								Saturday\n							\n								\n								Sunday\n							ICSB is only able to attend events on Saturdays and Sundays.Notes or QuestionsCAPTCHA\n          \n            \n            \n            \n            \n            \n            \n            \n            \n            \n            \n            \n            \n            \n        \n                        \n                        \n		                \n		                \n	\n\n	\n\n\n\n	\n		\n	\n\n			\n\n		\n	\n\n		\n\n\n\n	\n\n			\n							Appointment Request
URL:https://icsb.com/all-events/breeder-day/
LOCATION:Chambers Prarie Animal Hospital\, 3100 Yelm Hwy SE\, Olympia\, WA\, 98501\, United States
END:VEVENT
END:VCALENDAR