BEGIN:VCALENDAR
VERSION:2.0
PRODID:-//International Canine Semen Bank (ICSB) - ECPv6.15.20//NONSGML v1.0//EN
CALSCALE:GREGORIAN
METHOD:PUBLISH
X-WR-CALNAME:International Canine Semen Bank (ICSB)
X-ORIGINAL-URL:https://icsb.com
X-WR-CALDESC:Events for International Canine Semen Bank (ICSB)
REFRESH-INTERVAL;VALUE=DURATION:PT1H
X-Robots-Tag:noindex
X-PUBLISHED-TTL:PT1H
BEGIN:VTIMEZONE
TZID:America/Los_Angeles
BEGIN:DAYLIGHT
TZOFFSETFROM:-0800
TZOFFSETTO:-0700
TZNAME:PDT
DTSTART:20220313T100000
END:DAYLIGHT
BEGIN:STANDARD
TZOFFSETFROM:-0700
TZOFFSETTO:-0800
TZNAME:PST
DTSTART:20221106T090000
END:STANDARD
BEGIN:DAYLIGHT
TZOFFSETFROM:-0800
TZOFFSETTO:-0700
TZNAME:PDT
DTSTART:20230312T100000
END:DAYLIGHT
BEGIN:STANDARD
TZOFFSETFROM:-0700
TZOFFSETTO:-0800
TZNAME:PST
DTSTART:20231105T090000
END:STANDARD
BEGIN:DAYLIGHT
TZOFFSETFROM:-0800
TZOFFSETTO:-0700
TZNAME:PDT
DTSTART:20240310T100000
END:DAYLIGHT
BEGIN:STANDARD
TZOFFSETFROM:-0700
TZOFFSETTO:-0800
TZNAME:PST
DTSTART:20241103T090000
END:STANDARD
BEGIN:DAYLIGHT
TZOFFSETFROM:-0800
TZOFFSETTO:-0700
TZNAME:PDT
DTSTART:20250309T100000
END:DAYLIGHT
BEGIN:STANDARD
TZOFFSETFROM:-0700
TZOFFSETTO:-0800
TZNAME:PST
DTSTART:20251102T090000
END:STANDARD
BEGIN:DAYLIGHT
TZOFFSETFROM:-0800
TZOFFSETTO:-0700
TZNAME:PDT
DTSTART:20260308T100000
END:DAYLIGHT
BEGIN:STANDARD
TZOFFSETFROM:-0700
TZOFFSETTO:-0800
TZNAME:PST
DTSTART:20261101T090000
END:STANDARD
END:VTIMEZONE
BEGIN:VTIMEZONE
TZID:UTC
BEGIN:STANDARD
TZOFFSETFROM:+0000
TZOFFSETTO:+0000
TZNAME:UTC
DTSTART:20210101T000000
END:STANDARD
END:VTIMEZONE
BEGIN:VEVENT
DTSTART;TZID=America/Los_Angeles:20250913T000000
DTEND;TZID=America/Los_Angeles:20250914T235959
DTSTAMP:20260422T132404
CREATED:20241015T183057Z
LAST-MODIFIED:20241015T183100Z
UID:10000136-1757721600-1757894399@icsb.com
SUMMARY:Timberland Valley Dog Fanciers Association
DESCRIPTION:Chehalis\, WA \n\n	\n		\n\n						\n		\n\n			\n	\n	\n		\n\n	\n		\n						\n							\n			\n						\n			\n	\n		\n\n						\n		\n\n			\n	\n	\n		\n	\n		\n\n                \n                        \n                             \n                         \n \n                        Client First & Last NameBreed Of DogStud’s Registered Name(s) or Call Name (not registered)Upload Forms & Documents\n										\n											Drop files here or \n											Select files\n										\n									Max. file size: 1 GB. Appointment TypeCanine semen freezeCanine semen evaluationAll freeze appointments are evaluated. Please only select evaluation if you do not want a freeze attempt at all.Phone NumberEmail Address\n                            \n                        Number of Studs to be Collected123456Days You Want Your Stud Collected\n								\n								Saturday\n							\n								\n								Sunday\n							ICSB is only able to attend events on Saturdays and Sundays.Notes or QuestionsCAPTCHA\n          \n            \n            \n            \n            \n            \n            \n            \n            \n            \n            \n            \n            \n            \n        \n                        \n                        \n		                \n		                \n	\n\n	\n\n\n\n	\n		\n	\n\n			\n\n		\n	\n\n		\n\n\n\n	\n\n			\n							Appointment Request
URL:https://icsb.com/all-events/timberland-valley-dog-fanciers-association-3/
LOCATION:Southwest Washington Fairgrounds\, 1909 S Gold St\, Centralia\, WA\, 98531\, United States
END:VEVENT
BEGIN:VEVENT
DTSTART;VALUE=DATE:20240914
DTEND;VALUE=DATE:20240916
DTSTAMP:20260422T132404
CREATED:20240208T234552Z
LAST-MODIFIED:20241015T182930Z
UID:10000119-1726272000-1726444799@icsb.com
SUMMARY:Timberland Valley Dog Fanciers Association
DESCRIPTION:Chehalis\, WA\n\n\n	\n		\n\n						\n		\n\n			\n	\n	\n		\n\n	\n		\n						\n							\n			\n						\n			\n	\n		\n\n						\n		\n\n			\n	\n	\n		\n	\n		\n                \n                        \n                             \n                         \n \n                        Client First & Last NameBreed Of DogStud’s Registered Name(s) or Call Name (not registered)Upload Forms & Documents\n										\n											Drop files here or \n											Select files\n										\n									Max. file size: 1 GB. Appointment TypeCanine semen freezeCanine semen evaluationAll freeze appointments are evaluated. Please only select evaluation if you do not want a freeze attempt at all.Phone NumberEmail Address\n                            \n                        Number of Studs to be Collected123456Days You Want Your Stud Collected\n								\n								Saturday\n							\n								\n								Sunday\n							ICSB is only able to attend events on Saturdays and Sundays.Notes or QuestionsCAPTCHA\n          \n            \n            \n            \n            \n            \n            \n            \n            \n            \n            \n            \n            \n            \n        \n                        \n                        \n		                \n		                \n	\n\n	\n\n\n\n	\n		\n	\n\n			\n\n		\n	\n\n		\n\n\n\n	\n\n			\n							Appointment Request
URL:https://icsb.com/all-events/timberland-valley-dog-fanciers-association-2/
LOCATION:Southwest Washington Fairgrounds\, 1909 S Gold St\, Centralia\, WA\, 98531\, United States
END:VEVENT
BEGIN:VEVENT
DTSTART;VALUE=DATE:20230916
DTEND;VALUE=DATE:20230918
DTSTAMP:20260422T132404
CREATED:20230201T222033Z
LAST-MODIFIED:20230201T222033Z
UID:10000097-1694822400-1694995199@icsb.com
SUMMARY:Timberland Valley Dog Fanciers
DESCRIPTION:Chehalis\, WA \n\n	\n		\n\n						\n		\n\n			\n	\n	\n		\n\n	\n		\n						\n							\n			\n						\n			\n	\n		\n\n						\n		\n\n			\n	\n	\n		\n	\n		\n                \n                        \n                             \n                         \n \n                        Client First & Last NameBreed Of DogStud’s Registered Name(s) or Call Name (not registered)Upload Forms & Documents\n										\n											Drop files here or \n											Select files\n										\n									Max. file size: 1 GB. Appointment TypeCanine semen freezeCanine semen evaluationAll freeze appointments are evaluated. Please only select evaluation if you do not want a freeze attempt at all.Phone NumberEmail Address\n                            \n                        Number of Studs to be Collected123456Days You Want Your Stud Collected\n								\n								Saturday\n							\n								\n								Sunday\n							ICSB is only able to attend events on Saturdays and Sundays.Notes or QuestionsCAPTCHA\n          \n            \n            \n            \n            \n            \n            \n            \n            \n            \n            \n            \n            \n            \n        \n                        \n                        \n		                \n		                \n	\n\n	\n\n\n\n	\n		\n	\n\n			\n\n		\n	\n\n		\n\n\n\n	\n\n			\n							Appointment Request
URL:https://icsb.com/all-events/timberland-valley-dog-fanciers/
LOCATION:Southwest Washington Fairgrounds\, 1909 S Gold St\, Centralia\, WA\, 98531\, United States
END:VEVENT
BEGIN:VEVENT
DTSTART;VALUE=DATE:20220917
DTEND;VALUE=DATE:20220918
DTSTAMP:20260422T132404
CREATED:20220607T015722Z
LAST-MODIFIED:20220916T185941Z
UID:10000077-1663372800-1663459199@icsb.com
SUMMARY:Timberland Valley Dog Fanciers Association
DESCRIPTION:Chehalis\, WA \n\n	\n		\n\n						\n		\n\n			\n	\n	\n		\n\n	\n		\n						\n							\n			\n						\n			\n	\n		\n\n						\n		\n\n			\n	\n	\n		\n	\n		\n                \n                        \n                             \n                         \n \n                        Client First & Last NameBreed Of DogStud’s Registered Name(s) or Call Name (not registered)Upload Forms & Documents\n										\n											Drop files here or \n											Select files\n										\n									Max. file size: 1 GB. Appointment TypeCanine semen freezeCanine semen evaluationAll freeze appointments are evaluated. Please only select evaluation if you do not want a freeze attempt at all.Phone NumberEmail Address\n                            \n                        Number of Studs to be Collected123456Days You Want Your Stud Collected\n								\n								Saturday\n							\n								\n								Sunday\n							ICSB is only able to attend events on Saturdays and Sundays.Notes or QuestionsCAPTCHA\n          \n            \n            \n            \n            \n            \n            \n            \n            \n            \n            \n            \n            \n            \n        \n                        \n                        \n		                \n		                \n	\n\n	\n\n\n\n	\n		\n	\n\n			\n\n		\n	\n\n		\n\n\n\n	\n\n			\n							Appointment Request
URL:https://icsb.com/all-events/timberland-valley-dog-fanciers-association/
LOCATION:Southwest Washington Fairgrounds\, 1909 S Gold St\, Centralia\, WA\, 98531\, United States
END:VEVENT
END:VCALENDAR